BEGIN:VCALENDAR
VERSION:2.0
PRODID:-//wp-events-plugin.com//7.2.3.1//EN
TZID:America/Denver
X-WR-TIMEZONE:America/Denver
BEGIN:VEVENT
UID:54@drumfreeexperience.org
DTSTART;TZID=America/Denver:20241113T170000
DTEND;TZID=America/Denver:20241113T174500
DTSTAMP:20241114T000456Z
URL:https://drumfreeexperience.org/community/events/wed-tech-poc-drum-free
 -experience-test/
SUMMARY:Wed TECH Drum Free Experience™ TEST
DESCRIPTION:Drum Free Experience™ is universal group drumming technologie
 s for community-powered personal transformation. Drum Free Experience™ r
 evives the restorative power of community drum circles and modernizes it f
 or today's global\, virtual and local communities.
CATEGORIES:DFE Events,Test
END:VEVENT
BEGIN:VTIMEZONE
TZID:America/Denver
X-LIC-LOCATION:America/Denver
BEGIN:STANDARD
DTSTART:20241103T010000
TZOFFSETFROM:-0600
TZOFFSETTO:-0700
TZNAME:MST
END:STANDARD
END:VTIMEZONE
END:VCALENDAR