BEGIN:VCALENDAR
VERSION:2.0
PRODID:-//wp-events-plugin.com//7.2.3.1//EN
TZID:America/Denver
X-WR-TIMEZONE:America/Denver
BEGIN:VEVENT
UID:15@drumfreeexperience.org
DTSTART;TZID=America/Denver:20240929T140000
DTEND;TZID=America/Denver:20240929T141500
DTSTAMP:20240929T164054Z
URL:https://drumfreeexperience.org/community/events/sun-tech-test/
SUMMARY:Sun Tech Test
DESCRIPTION:
CATEGORIES:DFE Events
END:VEVENT
BEGIN:VTIMEZONE
TZID:America/Denver
X-LIC-LOCATION:America/Denver
BEGIN:DAYLIGHT
DTSTART:20240310T030000
TZOFFSETFROM:-0700
TZOFFSETTO:-0600
TZNAME:MDT
END:DAYLIGHT
END:VTIMEZONE
END:VCALENDAR