BEGIN:VCALENDAR
VERSION:2.0
PRODID:-//wp-events-plugin.com//7.2.3.1//EN
TZID:America/Denver
X-WR-TIMEZONE:America/Denver
BEGIN:VEVENT
UID:16@drumfreeexperience.org
DTSTART;TZID=America/Denver:20241001T180000
DTEND;TZID=America/Denver:20241001T190000
DTSTAMP:20240930T022018Z
URL:https://drumfreeexperience.org/community/events/mon-drum-free-experien
 ce-beta/
SUMMARY:Tue Drum Free Experience™ (Beta)
DESCRIPTION:Drum Free Experience™ is universal group drumming technologie
 s for community-powered personal transformation. Drum Free Experience™ r
 evives the restorative power of community drum circles and modernizes it f
 or today's global\, virtual and local communities.
CATEGORIES:DFE Events
END:VEVENT
BEGIN:VTIMEZONE
TZID:America/Denver
X-LIC-LOCATION:America/Denver
BEGIN:DAYLIGHT
DTSTART:20240310T030000
TZOFFSETFROM:-0700
TZOFFSETTO:-0600
TZNAME:MDT
END:DAYLIGHT
END:VTIMEZONE
END:VCALENDAR