BEGIN:VCALENDAR
VERSION:2.0
PRODID:-//wp-events-plugin.com//7.2.3.1//EN
TZID:America/Denver
X-WR-TIMEZONE:America/Denver
BEGIN:VEVENT
UID:10@drumfreeexperience.org
DTSTART;TZID=America/Denver:20240927T180000
DTEND;TZID=America/Denver:20240927T181500
DTSTAMP:20240928T004701Z
URL:https://drumfreeexperience.org/community/events/fri-2-27-test2/
SUMMARY:Fri 2/27 Test2
DESCRIPTION:
END:VEVENT
BEGIN:VTIMEZONE
TZID:America/Denver
X-LIC-LOCATION:America/Denver
BEGIN:DAYLIGHT
DTSTART:20240310T030000
TZOFFSETFROM:-0700
TZOFFSETTO:-0600
TZNAME:MDT
END:DAYLIGHT
END:VTIMEZONE
END:VCALENDAR