BEGIN:VCALENDAR
VERSION:2.0
PRODID:-//wp-events-plugin.com//7.2.3.1//EN
TZID:America/Denver
X-WR-TIMEZONE:America/Denver
BEGIN:VEVENT
UID:8@drumfreeexperience.org
DTSTART;TZID=America/Denver:20240926T220000
DTEND;TZID=America/Denver:20240926T230000
DTSTAMP:20240927T033919Z
URL:https://drumfreeexperience.org/community/events/for-reals/
SUMMARY:For Reals
DESCRIPTION:Excerpt
LOCATION:https://us06web.zoom.us/j/83014539401?pwd=OkT214UMrTdt0WlmIa0tlM1T
 kb5fE2.1
END:VEVENT
BEGIN:VTIMEZONE
TZID:America/Denver
X-LIC-LOCATION:America/Denver
BEGIN:DAYLIGHT
DTSTART:20240310T030000
TZOFFSETFROM:-0700
TZOFFSETTO:-0600
TZNAME:MDT
END:DAYLIGHT
END:VTIMEZONE
END:VCALENDAR