BEGIN:VCALENDAR
VERSION:2.0
PRODID:-//wp-events-plugin.com//7.2.3.1//EN
TZID:America/Denver
X-WR-TIMEZONE:America/Denver
BEGIN:VEVENT
UID:53@drumfreeexperience.org
DTSTART;TZID=America/Denver:20241020T130000
DTEND;TZID=America/Denver:20241020T143000
DTSTAMP:20241020T181213Z
URL:https://drumfreeexperience.org/community/events/afro-cuban-circle-ogun
 -focus/
SUMMARY:Afro-Cuban Circle - Ogun Focus
DESCRIPTION:Rumberos:\n\nWinter is upon us.\n\nLet's keep the drum circle r
 everberating.\n\nPro Zoom has Musician Experience features to make a live 
 jam viable.\n\nLet's do Ogun rhythms at 1:00!\n\nhttps://us06web.zoom.us/j
 /83112764742?pwd=dIY6qce4RGbfbfp16Eb64KAHsp0caM.1\n\n~Moses-&gt\;\n\nP.S. 
 Use a wired Ethernet connection if possible instead of a slower WiFi conne
 ction.
LOCATION:https://us06web.zoom.us/j/83112764742?pwd=dIY6qce4RGbfbfp16Eb64KAH
 sp0caM.1
END:VEVENT
BEGIN:VTIMEZONE
TZID:America/Denver
X-LIC-LOCATION:America/Denver
BEGIN:DAYLIGHT
DTSTART:20240310T030000
TZOFFSETFROM:-0700
TZOFFSETTO:-0600
TZNAME:MDT
END:DAYLIGHT
END:VTIMEZONE
END:VCALENDAR